BEGIN:VCALENDAR
VERSION:2.0
PRODID:-//RESOURCE - ECPv6.14.1//NONSGML v1.0//EN
CALSCALE:GREGORIAN
METHOD:PUBLISH
X-ORIGINAL-URL:https://resource-invest.eu
X-WR-CALDESC:Events for RESOURCE
REFRESH-INTERVAL;VALUE=DURATION:PT1H
X-Robots-Tag:noindex
X-PUBLISHED-TTL:PT1H
BEGIN:VTIMEZONE
TZID:UTC
BEGIN:STANDARD
TZOFFSETFROM:+0000
TZOFFSETTO:+0000
TZNAME:UTC
DTSTART:20230101T000000
END:STANDARD
END:VTIMEZONE
BEGIN:VEVENT
DTSTART;VALUE=DATE:20230703
DTEND;VALUE=DATE:20230708
DTSTAMP:20260422T224057
CREATED:20221007T092659Z
LAST-MODIFIED:20221007T102646Z
UID:364-1688342400-1688774399@resource-invest.eu
SUMMARY:ISIE 2023
DESCRIPTION:Relevance: This event focuses on the contribution of industrial ecology to analysis\, design and implementation of transformation of energy and resource systems at different scale levels. \n\nPartner: ULEI\n\n\n\n\n\n\n\nVenue: Leiden\, NL \nWebsite
URL:https://resource-invest.eu/event/isie2023/
END:VEVENT
END:VCALENDAR