BEGIN:VCALENDAR
VERSION:2.0
PRODID:-//RESOURCE - ECPv6.14.1//NONSGML v1.0//EN
CALSCALE:GREGORIAN
METHOD:PUBLISH
X-ORIGINAL-URL:https://resource-invest.eu
X-WR-CALDESC:Events for RESOURCE
REFRESH-INTERVAL;VALUE=DURATION:PT1H
X-Robots-Tag:noindex
X-PUBLISHED-TTL:PT1H
BEGIN:VTIMEZONE
TZID:UTC
BEGIN:STANDARD
TZOFFSETFROM:+0000
TZOFFSETTO:+0000
TZNAME:UTC
DTSTART:20220101T000000
END:STANDARD
END:VTIMEZONE
BEGIN:VEVENT
DTSTART;VALUE=DATE:20221019
DTEND;VALUE=DATE:20221020
DTSTAMP:20260423T135227
CREATED:20221007T090508Z
LAST-MODIFIED:20221007T102211Z
UID:339-1666137600-1666223999@resource-invest.eu
SUMMARY:Advanced Manufacturing
DESCRIPTION:Relevance: Mostly networking & learning about capacities/innovative projects \nPartner: Aitiip \n\nVenue: Madrid\, SP\n\nWebsite
URL:https://resource-invest.eu/event/advanced-manufacturing/
END:VEVENT
BEGIN:VEVENT
DTSTART;VALUE=DATE:20221019
DTEND;VALUE=DATE:20221020
DTSTAMP:20260423T135227
CREATED:20221007T090906Z
LAST-MODIFIED:20221007T102309Z
UID:345-1666137600-1666223999@resource-invest.eu
SUMMARY:Emprendimiento Circular: una necesaria oportunidad para proyectos empresariales
DESCRIPTION:Relevance: The session will focus on the role of design\, entrepreneurship and innovation in the Circular Economy. We will meet experiences of circular entrepreneurship and innovation. Networking & identification of possible stakeholders/target industries/projects… \n\nPartner: CEEI Aragon\n\n\n\n\n\n\n\nVenue: Teruel (Aragón)\, SP \nWebsite
URL:https://resource-invest.eu/event/teruel-oct22/
END:VEVENT
BEGIN:VEVENT
DTSTART;VALUE=DATE:20221019
DTEND;VALUE=DATE:20221021
DTSTAMP:20260423T135227
CREATED:20221007T084048Z
LAST-MODIFIED:20221007T102356Z
UID:325-1666137600-1666310399@resource-invest.eu
SUMMARY:2022 EBN TechCamp
DESCRIPTION:Relevance: The event brings together business support experts\, thought leaders\, and skilled innovation practitioners to enable peer-learning and access experts’ insights on the future of innovation. \nPartner: EBN \nVenue: Sežana\, Slovenia \nWebsite
URL:https://resource-invest.eu/event/2022-ebn-techcamp/
END:VEVENT
END:VCALENDAR