BEGIN:VCALENDAR
VERSION:2.0
PRODID:-//RESOURCE - ECPv6.14.1//NONSGML v1.0//EN
CALSCALE:GREGORIAN
METHOD:PUBLISH
X-WR-CALNAME:RESOURCE
X-ORIGINAL-URL:https://resource-invest.eu
X-WR-CALDESC:Events for RESOURCE
REFRESH-INTERVAL;VALUE=DURATION:PT1H
X-Robots-Tag:noindex
X-PUBLISHED-TTL:PT1H
BEGIN:VTIMEZONE
TZID:UTC
BEGIN:STANDARD
TZOFFSETFROM:+0000
TZOFFSETTO:+0000
TZNAME:UTC
DTSTART:20230101T000000
END:STANDARD
END:VTIMEZONE
BEGIN:VEVENT
DTSTART;VALUE=DATE:20231004
DTEND;VALUE=DATE:20231007
DTSTAMP:20260422T200115
CREATED:20230928T132816Z
LAST-MODIFIED:20230928T132816Z
UID:1108-1696377600-1696636799@resource-invest.eu
SUMMARY:EU industry days 2023
DESCRIPTION:Relevance: This event is taking place from the 4 to 6 October in Malaga. \nPartner: ANCES/ EBN \n\n\n\n\n\n\nVenue: Malaga \n\nMore information here
URL:https://resource-invest.eu/event/eu-industry-days-2023/
END:VEVENT
END:VCALENDAR