BEGIN:VCALENDAR
VERSION:2.0
PRODID:-//RESOURCE - ECPv6.14.1//NONSGML v1.0//EN
CALSCALE:GREGORIAN
METHOD:PUBLISH
X-WR-CALNAME:RESOURCE
X-ORIGINAL-URL:https://resource-invest.eu
X-WR-CALDESC:Events for RESOURCE
REFRESH-INTERVAL;VALUE=DURATION:PT1H
X-Robots-Tag:noindex
X-PUBLISHED-TTL:PT1H
BEGIN:VTIMEZONE
TZID:UTC
BEGIN:STANDARD
TZOFFSETFROM:+0000
TZOFFSETTO:+0000
TZNAME:UTC
DTSTART:20230101T000000
END:STANDARD
END:VTIMEZONE
BEGIN:VEVENT
DTSTART;VALUE=DATE:20231018
DTEND;VALUE=DATE:20231021
DTSTAMP:20260422T200201
CREATED:20231012T072921Z
LAST-MODIFIED:20231012T072942Z
UID:1122-1697587200-1697846399@resource-invest.eu
SUMMARY:EBN techcamp 2023 - Future-Proofing Technology Investment
DESCRIPTION:Relevance: This event is taking place the 18-20 of October 2023 in England. \nVenue: Coventry University \n\n\n\n\n\nMore information here
URL:https://resource-invest.eu/event/ebn-techcamp-2023-future-proofing-technology-investment/
END:VEVENT
END:VCALENDAR