BEGIN:VCALENDAR
VERSION:2.0
PRODID:-//RESOURCE - ECPv6.14.1//NONSGML v1.0//EN
CALSCALE:GREGORIAN
METHOD:PUBLISH
X-ORIGINAL-URL:https://resource-invest.eu
X-WR-CALDESC:Events for RESOURCE
REFRESH-INTERVAL;VALUE=DURATION:PT1H
X-Robots-Tag:noindex
X-PUBLISHED-TTL:PT1H
BEGIN:VTIMEZONE
TZID:UTC
BEGIN:STANDARD
TZOFFSETFROM:+0000
TZOFFSETTO:+0000
TZNAME:UTC
DTSTART:20230101T000000
END:STANDARD
END:VTIMEZONE
BEGIN:VEVENT
DTSTART;TZID=UTC:20231215T120000
DTEND;TZID=UTC:20231215T140000
DTSTAMP:20260422T183216
CREATED:20231129T100020Z
LAST-MODIFIED:20231205T110419Z
UID:1233-1702641600-1702648800@resource-invest.eu
SUMMARY:ANCES ACADEMY 2023: Prototyping of MVPs with NOCODE tools
DESCRIPTION:Relevance: This online event is taking place the 15 December 2023 from 12pm to 2pm. During this event\, the presentation will be provided by Guillermo Irure Zabala  – Digital Entrepreneurship Mentor at CEIN (Centro Europeo de Empresas e Innovación) Navarra – on strategic vision and the application of agile methodologies in startup acceleration and digital transformation. \nThis talk will provide valuable and practical knowledge for those interested in innovating and accelerating their business projects in the digital field\, highlighting\, through an interactive approach and real case studies\, the advantages of these methodologies and tools in the development of business projects. \nThis webinar is free but registration is mandatory. \nTo take part in this session\, register here
URL:https://resource-invest.eu/event/ances-academy-2023-prototyping-of-mvps-with-nocode-tools/
END:VEVENT
END:VCALENDAR