BEGIN:VCALENDAR
VERSION:2.0
PRODID:-//RESOURCE - ECPv6.14.1//NONSGML v1.0//EN
CALSCALE:GREGORIAN
METHOD:PUBLISH
X-ORIGINAL-URL:https://resource-invest.eu
X-WR-CALDESC:Events for RESOURCE
REFRESH-INTERVAL;VALUE=DURATION:PT1H
X-Robots-Tag:noindex
X-PUBLISHED-TTL:PT1H
BEGIN:VTIMEZONE
TZID:UTC
BEGIN:STANDARD
TZOFFSETFROM:+0000
TZOFFSETTO:+0000
TZNAME:UTC
DTSTART:20240101T000000
END:STANDARD
END:VTIMEZONE
BEGIN:VEVENT
DTSTART;TZID=UTC:20240223T120000
DTEND;TZID=UTC:20240223T140000
DTSTAMP:20260422T135525
CREATED:20240206T160238Z
LAST-MODIFIED:20240206T161655Z
UID:1421-1708689600-1708696800@resource-invest.eu
SUMMARY:ANCES ACADEMY 2024: Regenerative Circularity
DESCRIPTION:This online event will be held 23rd February 2024 from 12pm to 2pm\, in Spanish. \n\n\n\nJaime Gross (CEEI Elche) will present the concept of Regenerative Circularity\, which promotes sobriety rather than abundance to achieve the Net Zero Goal. In addition to discussing the methodology\, he will also illustrate with some concrete use cases. \nThis webinar is free but registration is mandatory. \nTo take part in this session\, register here
URL:https://resource-invest.eu/event/ances-academy-2024-regenerative-circularity/
END:VEVENT
END:VCALENDAR