BEGIN:VCALENDAR
VERSION:2.0
PRODID:-//RESOURCE - ECPv6.14.1//NONSGML v1.0//EN
CALSCALE:GREGORIAN
METHOD:PUBLISH
X-WR-CALNAME:RESOURCE
X-ORIGINAL-URL:https://resource-invest.eu
X-WR-CALDESC:Events for RESOURCE
REFRESH-INTERVAL;VALUE=DURATION:PT1H
X-Robots-Tag:noindex
X-PUBLISHED-TTL:PT1H
BEGIN:VTIMEZONE
TZID:UTC
BEGIN:STANDARD
TZOFFSETFROM:+0000
TZOFFSETTO:+0000
TZNAME:UTC
DTSTART:20240101T000000
END:STANDARD
END:VTIMEZONE
BEGIN:VEVENT
DTSTART;TZID=UTC:20241213T120000
DTEND;TZID=UTC:20241213T130000
DTSTAMP:20260420T011112
CREATED:20241127T143623Z
LAST-MODIFIED:20241127T143623Z
UID:1746-1734091200-1734094800@resource-invest.eu
SUMMARY:Final ANCES ACADEMY :  Internationalisation Strategies for Startups
DESCRIPTION:This online event will be held on 13 December 2024 at 12pm\, in Spanish. \nAngel Prieto\, expert in internationalisation and investment strategies\, will bring practical insights to help business to thrive internationally. \n\n\n\nThis webinar is free but registration is mandatory. \n\nTo take part in this session\, register here.
URL:https://resource-invest.eu/event/final-ances-academy-internationalisation-strategies-for-startups/
END:VEVENT
END:VCALENDAR